BEGIN:VCALENDAR
VERSION:2.0
PRODID:-//wp-events-plugin.com//7.2.3.1//EN
BEGIN:VEVENT
UID:119@ndma.org.uk
DTSTART;TZID=Europe/London:20240710T140000
DTEND;TZID=Europe/London:20240710T163000
DTSTAMP:20240705T115341Z
URL:https://www.ndma.org.uk/events/appledore-shipyard-best-practice-visit-
 site-tour/
SUMMARY:Appledore Shipyard best practice visit &amp\; site tour
DESCRIPTION:An exclusive opportunity to visit the historic Appledore Shipya
 rd and find out how Harland and Wolff is transforming it into a shipbuildi
 ng facility for modern times
ATTACH;FMTTYPE=image/jpeg:https://www.ndma.org.uk/wp-content/uploads/2024/
 05/harland-wolff-shipyard-appledore-tour-visit-site-13.jpg
CATEGORIES:Best Practice Visits,Careers, Skills &amp; Education,NDMA
 Events
END:VEVENT
BEGIN:VTIMEZONE
TZID:Europe/London
X-LIC-LOCATION:Europe/London
BEGIN:DAYLIGHT
DTSTART:20240331T020000
TZOFFSETFROM:+0000
TZOFFSETTO:+0100
TZNAME:BST
END:DAYLIGHT
END:VTIMEZONE
END:VCALENDAR