BEGIN:VCALENDAR
VERSION:2.0
PRODID:-//wp-events-plugin.com//7.2.3.1//EN
BEGIN:VEVENT
UID:113@ndma.org.uk
DTSTART;VALUE=DATE:20240305
DTEND;VALUE=DATE:20240306
DTSTAMP:20240705T115344Z
URL:https://www.ndma.org.uk/events/bbxpo-business-boost/
SUMMARY:BBxpo Business Boost
DESCRIPTION:BBxpo returns to Ilfracombe on Tuesday 5th March\nIn a time of 
 continued extreme challenge for all businesses\, the event aims to:\n\n 	P
 romote exhibitor businesses face-to-face\, in print and online\n 	Provide 
 a networking environment to build relationships and create opportunities\n
  	Raise awareness of business support\, advice and training available in N
 orth Devon\n 	Support enterprise in businesses new and old\, large and sma
 ll\, in every sector\n\nBBxpo achieves this through providing stands at af
 fordable prices – small stand £75 / large stand £150 – with every ex
 hibitor receiving:\n\n 	stand space\n 	web site listing with links – se
 e exhibitors\n 	printed magazine listing in Business Action magazine (subj
 ect to deadlines)\n 	social media promotion\n\nBook your stand here.\n\nBB
 xpo is free to visit for all businesses – both from North Devon and beyo
 nd – to enjoy:\n\n 	entry to B2B exhibition\n 	talks &amp\; advice\n 	ex
 hibitor offers\n 	free networking afternoon tea\n\nLink to website for fur
 ther information here.
ATTACH;FMTTYPE=image/jpeg:https://www.ndma.org.uk/wp-content/uploads/2024/
 01/2022-bbxpo-north-devon-business-exhibition-01.webp
CATEGORIES:Business Event,Signposted Event
LOCATION:The Landmark Theatre\, The Promenade\, Ilfracombe\, Devon\, EX34 9
 BZ\, United Kingdom
GEO:51.210638;-4.122573
X-APPLE-STRUCTURED-LOCATION;VALUE=URI;X-ADDRESS=The Promenade\, Ilfracombe\
 , Devon\, EX34 9BZ\, United Kingdom;X-APPLE-RADIUS=100;X-TITLE=The Landmar
 k Theatre:geo:51.210638,-4.122573
END:VEVENT
END:VCALENDAR