BEGIN:VCALENDAR
VERSION:2.0
PRODID:-//wp-events-plugin.com//7.2.3.1//EN
BEGIN:VEVENT
UID:122@ndma.org.uk
DTSTART;TZID=Europe/London;VALUE=DATE:20240925
DTEND;TZID=Europe/London;VALUE=DATE:20240927
DTSTAMP:20240813T200953Z
URL:https://www.ndma.org.uk/events/beran-conference-2024/
SUMMARY:Beran Conference 2024
DESCRIPTION:Welcome to the Beran Conference 2024\, a premier event set aga
 inst the stunning backdrop of Chatsworth House\, one of the UK's most his
 toric and picturesque estates. This year’s conference promises an except
 ional experience amidst the grandeur of Chatsworth\, blending learning wit
 h the estate’s rich heritage.\nEvent highlights\n\n 	Engaging presentati
 ons: Hear from Beran and CMTG group members about cutting-edge products\,
  capabilities\, and future innovations.\n 	Insightful case studies: Delve
  into real-world case studies from top experts in condition monitoring and
  academia.\n 	Networking opportunities: Connect with peers and industry l
 eaders in the breathtaking setting of Chatsworth House.\n 	Free admission:
  Enjoy complimentary access to the event\, though attendees are responsib
 le for their own travel and accommodation costs.\n\nFind out more and book
  HERE
ATTACH;FMTTYPE=image/jpeg:https://www.ndma.org.uk/wp-content/uploads/2024/
 08/beran-conference-2024-chatsworth-house-derbyshire-uk.png
CATEGORIES:Business Event
LOCATION:Chatsworth House\, Chatsworth House\, Bakewell\, Derbyshire\, DE45
  1PP\, United Kingdom
GEO:53.227543;-1.611427
X-APPLE-STRUCTURED-LOCATION;VALUE=URI;X-ADDRESS=Chatsworth House\, Bakewell
 \, Derbyshire\, DE45 1PP\, United Kingdom;X-APPLE-RADIUS=100;X-TITLE=Chats
 worth House:geo:53.227543,-1.611427
END:VEVENT
BEGIN:VTIMEZONE
TZID:Europe/London
X-LIC-LOCATION:Europe/London
BEGIN:DAYLIGHT
DTSTART:20240331T020000
TZOFFSETFROM:+0000
TZOFFSETTO:+0100
TZNAME:BST
END:DAYLIGHT
END:VTIMEZONE
END:VCALENDAR