BEGIN:VCALENDAR
VERSION:2.0
PRODID:-//wp-events-plugin.com//7.2.3.1//EN
BEGIN:VEVENT
UID:144@ndma.org.uk
DTSTART;TZID=Europe/London:20250619T140000
DTEND;TZID=Europe/London:20250619T160000
DTSTAMP:20250612T082842Z
URL:https://www.ndma.org.uk/events/best-practice-visit-st-eval/
SUMMARY:Best Practice Visit - St Eval
DESCRIPTION:Whatever you manufacture\, the transformative growth and develo
 pment of BCorp and Queen's Award-winning St Eval is a must-see!
ATTACH;FMTTYPE=image/jpeg:https://www.ndma.org.uk/wp-content/uploads/2025/
 06/best-practice-visit-st-eval-candle-june-2025-transformation-sustainabil
 ity-digital-event-28.jpg
CATEGORIES:Best Practice Visits,Sustainability
LOCATION:St Eval Candle Company\, Engollan\, St Eval\, Wadebridge\, Cornwal
 l\, PL27 7UL\, United Kingdom
GEO:50.48878;-5.013085
X-APPLE-STRUCTURED-LOCATION;VALUE=URI;X-ADDRESS=Engollan\, St Eval\, Wadebr
 idge\, Cornwall\, PL27 7UL\, United Kingdom;X-APPLE-RADIUS=100;X-TITLE=St 
 Eval Candle Company:geo:50.48878,-5.013085
END:VEVENT
BEGIN:VTIMEZONE
TZID:Europe/London
X-LIC-LOCATION:Europe/London
BEGIN:DAYLIGHT
DTSTART:20250330T020000
TZOFFSETFROM:+0000
TZOFFSETTO:+0100
TZNAME:BST
END:DAYLIGHT
END:VTIMEZONE
END:VCALENDAR