BEGIN:VCALENDAR
VERSION:2.0
PRODID:-//wp-events-plugin.com//7.2.3.1//EN
BEGIN:VEVENT
UID:145@ndma.org.uk
DTSTART;TZID=Europe/London:20250709T090000
DTEND;TZID=Europe/London:20250709T163000
DTSTAMP:20250701T200643Z
URL:https://www.ndma.org.uk/events/business-improvement-workshop-series-4-
 productivity-measures-for-competitiveness/
SUMMARY:Business Improvement Workshop Series #4\; Productivity Measures for
  Competitiveness
DESCRIPTION:Explore processes to establish effective performance indicators
  within your manufacturing business.\n\nPart of the NDMA Business Improvem
 ent Workshop Series\, this session will explain and explore the core produ
 ctivity measures that can be applied in to form essential KPI's within you
 r Business.\n\n 	Delivered in two parts across a morning and afternoon\, y
 ou will be introduced to some processes and techniques\, along with method
 s of implementation before applying them to your own business situation\n\
 nIn-person\, full day workshop\n\n 	Places are priced at £300 per delegat
 e + VAT\, but NDMA members can receive up to two funded places on each wor
 kshop theme in the series\, for a small cover charge\, to be invoiced on b
 ooking.\n 	The maximum group size will be 10 persons to ensure a direct ex
 perience.\n 	This workshop will be held at TDK Lambda in Ilfracombe\n\n&nb
 sp\;
ATTACH;FMTTYPE=image/jpeg:https://www.ndma.org.uk/wp-content/uploads/2025/
 06/productivity-measures-for-effectiveness-business-improvement-workshop-a
 thlete-race-manufacturing-32.jpg
CATEGORIES:Industry Workshops,NDMA Events
END:VEVENT
BEGIN:VTIMEZONE
TZID:Europe/London
X-LIC-LOCATION:Europe/London
BEGIN:DAYLIGHT
DTSTART:20250330T020000
TZOFFSETFROM:+0000
TZOFFSETTO:+0100
TZNAME:BST
END:DAYLIGHT
END:VTIMEZONE
END:VCALENDAR