BEGIN:VCALENDAR
VERSION:2.0
PRODID:-//wp-events-plugin.com//7.2.3.1//EN
BEGIN:VEVENT
UID:54@ndma.org.uk
DTSTART:20190227T070000Z
DTEND:20190227T093000Z
DTSTAMP:20240705T122539Z
URL:https://www.ndma.org.uk/events/centre-of-technology-innovation-excelle
 nce-cotie-exploration-breakfast/
SUMMARY:Centre of Technology &amp\; Innovation Excellence (CoTIE) Explorati
 on Breakfast
DESCRIPTION:At this Exploration Breakfast you can find out about the develo
 pment of this new CoTIE facility and have the opportunity to discuss what 
 the facilities and equipment should be available to benefit and support lo
 cal businesses.\n\n\nThe morning will include:\n\n 	7.30am-7.50am: Arrival
  and breakfast\n 	7.50am: Introduction and welcome by Diane Dimond\, Princ
 ipal &amp\; CEO\, Petroc\n 	8.00am: Keynote speaker\, Robert Kathro – I
 mpact Lab Exeter\n 	8.15am: 2 case study presentations from local business
 es\n 	8.45am: Roundtable discussions\n 	9.15am: Plenary\n 	9.30am: Close\n
 \nIf you would like to be part of the CoTIE Exploration Breakfast\, please
  register your interest on Evenbrite and we will contact you to find out
  more about your business and then confirm your place.\n\nFor further info
 rmation or enquiries please email nicola.williams@petroc.ac.uk\n\n
ATTACH;FMTTYPE=image/jpeg:https://www.ndma.org.uk/wp-content/uploads/2019/
 02/architecture-1491556_1280.jpg
CATEGORIES:Careers, Skills &amp; Education,STEM
LOCATION:Taw Restaurant\, Petroc\, Petroc\, Old Sticklepath Hill\, Barnstap
 le\, Devon\, EX31 2BQ\, United Kingdom
GEO:51.0722712;-4.069715699999961
X-APPLE-STRUCTURED-LOCATION;VALUE=URI;X-ADDRESS=Petroc\, Old Sticklepath Hi
 ll\, Barnstaple\, Devon\, EX31 2BQ\, United Kingdom;X-APPLE-RADIUS=100;X-T
 ITLE=Taw Restaurant\, Petroc:geo:51.0722712,-4.069715699999961
END:VEVENT
END:VCALENDAR