BEGIN:VCALENDAR
VERSION:2.0
PRODID:-//wp-events-plugin.com//7.2.3.1//EN
BEGIN:VEVENT
UID:152@ndma.org.uk
DTSTART:20251203T183000Z
DTEND:20251203T213000Z
DTSTAMP:20251021T201416Z
URL:https://www.ndma.org.uk/events/christmas-curry-night/
SUMMARY:Christmas Curry Night
DESCRIPTION:The committee takes a break in December\, so rather than a meet
 ing we are having a get together to share a meal in good company.\nJoin us
  at Gurkha Restaurant\, Barnstaple for an early Christmas celebration.\n\n
 There will be a selection of meat and non-meat options\, rice\, bread\, pa
 padoms\, some starters and we will also include a drink\, we ask for a nom
 inal payment of £10.\n\nBook your place now\, only 25 spaces available.
ATTACH;FMTTYPE=image/jpeg:https://www.ndma.org.uk/wp-content/uploads/2025/
 10/ndma-december-christmas-curry.jpg
CATEGORIES:NDMA Events
LOCATION:Gurkha Barnstaple\, 2-3 Market Street\, Barnstaple\, Devon\, EX31 
 1BX\, United Kingdom
GEO:51.08106;-4.059343
X-APPLE-STRUCTURED-LOCATION;VALUE=URI;X-ADDRESS=2-3 Market Street\, Barnsta
 ple\, Devon\, EX31 1BX\, United Kingdom;X-APPLE-RADIUS=100;X-TITLE=Gurkha 
 Barnstaple:geo:51.08106,-4.059343
END:VEVENT
END:VCALENDAR