BEGIN:VCALENDAR
VERSION:2.0
PRODID:-//wp-events-plugin.com//7.2.3.1//EN
BEGIN:VEVENT
UID:165@ndma.org.uk
DTSTART:20260401T173000Z
DTEND:20260401T193000Z
DTSTAMP:20260120T205148Z
URL:https://www.ndma.org.uk/events/committee-meeting-april-2026/
SUMMARY:Committee Meeting - April 2026
DESCRIPTION:If you are a member company of NDMA\, please feel free to join 
 us at our monthly meeting.\n\nOur next meeting of the year will take place
  at TCi GB\, Hele Manor\, Roundswell on the 1st April 2026\, starting at 5
 :30pm.\n\n&nbsp\;
ATTACH;FMTTYPE=image/jpeg:https://www.ndma.org.uk/wp-content/uploads/2024/
 05/engineering-breakfast-event.jpg
CATEGORIES:NDMA Events
LOCATION:TCi (GB) Ltd - Head Office\, Unit 21\, Hele Lane\, Barnstaple\, EX
 31 3UL\, United Kingdom
GEO:51.069351;-4.095985
X-APPLE-STRUCTURED-LOCATION;VALUE=URI;X-ADDRESS=Unit 21\, Hele Lane\, Barns
 taple\, EX31 3UL\, United Kingdom;X-APPLE-RADIUS=100;X-TITLE=TCi (GB) Ltd 
 - Head Office:geo:51.069351,-4.095985
END:VEVENT
END:VCALENDAR