BEGIN:VCALENDAR
VERSION:2.0
PRODID:-//wp-events-plugin.com//7.2.3.1//EN
BEGIN:VEVENT
UID:163@ndma.org.uk
DTSTART:20260204T173000Z
DTEND:20260204T193000Z
DTSTAMP:20260120T204508Z
URL:https://www.ndma.org.uk/events/committee-meeting-february-2026/
SUMMARY:Committee Meeting - February 2026
DESCRIPTION:If you are a member company of NDMA\, please feel free to join 
 us at our monthly meeting.\n\nOur next meeting of the year will take place
  in the SWIoT building at North Devon College\, Old Sticklepath Hill\, Bar
 nstaple on the 4th February 2026\, starting at 5:30pm in room G108.\n\n&nb
 sp\;
ATTACH;FMTTYPE=image/jpeg:https://www.ndma.org.uk/wp-content/uploads/2024/
 05/engineering-breakfast-event.jpg
CATEGORIES:NDMA Events
LOCATION:North Devon College\, Old Sticklepath Hill\, Barnstaple\, Devon\, 
 EX31 2BQ\, 
GEO:51.072944;-4.069868
X-APPLE-STRUCTURED-LOCATION;VALUE=URI;X-ADDRESS=Old Sticklepath Hill\, Barn
 staple\, Devon\, EX31 2BQ\, ;X-APPLE-RADIUS=100;X-TITLE=North Devon Colleg
 e:geo:51.072944,-4.069868
END:VEVENT
END:VCALENDAR