BEGIN:VCALENDAR
VERSION:2.0
PRODID:-//wp-events-plugin.com//7.2.3.1//EN
BEGIN:VEVENT
UID:151@ndma.org.uk
DTSTART:20260107T173000Z
DTEND:20260107T193000Z
DTSTAMP:20250908T110711Z
URL:https://www.ndma.org.uk/events/committee-meeting-january-2026-2/
SUMMARY:Committee Meeting - January 2026
DESCRIPTION:If you are a member company of NDMA\, please feel free to join 
 us at our monthly meeting.\n\nOur first meeting of the new year will take 
 place in the SWIoT building on Petroc Campus\, Old Sticklepath Hill\, Barn
 staple on the 7th January 2026\, starting at 5:30pm in room G108.\n\n&nbsp
 \;
ATTACH;FMTTYPE=image/jpeg:https://www.ndma.org.uk/wp-content/uploads/2024/
 05/engineering-breakfast-event.jpg
CATEGORIES:NDMA Events
LOCATION:Petroc College\, Old Sticklepath Hill\, Barnstaple\, Devon\, EX31 
 2BQ\, United Kingdom
GEO:51.0732002;-4.06937389999996
X-APPLE-STRUCTURED-LOCATION;VALUE=URI;X-ADDRESS=Old Sticklepath Hill\, Barn
 staple\, Devon\, EX31 2BQ\, United Kingdom;X-APPLE-RADIUS=100;X-TITLE=Petr
 oc College:geo:51.0732002,-4.06937389999996
END:VEVENT
END:VCALENDAR