BEGIN:VCALENDAR
VERSION:2.0
PRODID:-//wp-events-plugin.com//7.2.3.1//EN
BEGIN:VEVENT
UID:115@ndma.org.uk
DTSTART:20240913T093000Z
DTEND:20240913T163000Z
DTSTAMP:20240705T115343Z
URL:https://www.ndma.org.uk/events/delivering-for-the-uk-great-south-west/
SUMMARY:Delivering for the UK - Great South West
DESCRIPTION:Our partners at the Great South West have announced their firs
 t conference\, ‘Delivering for the UK’. This promises to be a really e
 xciting event\, bringing together national business leaders and politician
 s to raise the profile of our region's opportunities to deliver economic g
 rowth\, security and prosperity.\n\nFor more information and to reserve y
 our free admission click here
ATTACH;FMTTYPE=image/jpeg:https://www.ndma.org.uk/wp-content/uploads/2024/
 02/https-__cdn.evbuc_.com_images_683210189_1218756107833_1_original.jpg
CATEGORIES:Business Event,Industry Event
LOCATION:Sandy Park\, Sandy Park Way\, Exeter\, Devon\, EX2 7NN\, United Ki
 ngdom
GEO:50.710055;-3.46936
X-APPLE-STRUCTURED-LOCATION;VALUE=URI;X-ADDRESS=Sandy Park Way\, Exeter\, D
 evon\, EX2 7NN\, United Kingdom;X-APPLE-RADIUS=100;X-TITLE=Sandy Park:geo:
 50.710055,-3.46936
END:VEVENT
END:VCALENDAR