BEGIN:VCALENDAR
VERSION:2.0
PRODID:-//wp-events-plugin.com//7.2.3.1//EN
BEGIN:VEVENT
UID:47@ndma.org.uk
DTSTART;VALUE=DATE:20190219
DTEND;VALUE=DATE:20190220
DTSTAMP:20240705T122541Z
URL:https://www.ndma.org.uk/events/eef-national-manufacturing-conference-d
 inner-2019/
SUMMARY:EEF National Manufacturing Conference &amp\; Dinner 2019
DESCRIPTION:Facing The Future Together\nJoin us on 19 February 2019 for EEF
 ’s National Manufacturing Conference and Dinner at the QEII Centre\, Lon
 don and the London Hilton on Park Lane.\n\nMeet and be inspired by leading
  figures from the manufacturing and political worlds\, network and discuss
  successful strategies for business post-Brexit\, take a look at new initi
 atives for the future in the company of your fellow decision makers... and
  celebrate our wonderful industry at an exclusive black-tie dinner (see ov
 erleaf). This is an unmissable date to book into your diary.\n\nThe EEF Na
 tional Manufacturing Conference\, 19 February 2019 at the QEII Centre\, Lo
 ndon is the premier event for the sector attracting 800 senior business an
 d political leaders.\n\nEEF Affiliate Members/EEF Members £99*\nMembers o
 f an Affiliate Partner £149*\n\nTo benefit from the EEF Affiliate Member 
 rate\, please make sure you have registered as an Affiliate Member.\n\nYou
  can do that for free at www.eef.org.uk/affiliate-registration.\n\nEEF Aff
 iliate Members/EEF Members book your tickets at www.manufacturingconferenc
 e.co.uk\n\nMembers of an Affiliate Partner please call the EEF conference 
 team on 0207 654 1583\n\nor\n\nemail eef.conference@eef.org.uk
ATTACH;FMTTYPE=image/jpeg:https://www.ndma.org.uk/wp-content/uploads/2019/
 01/eef-manufacturing-conference-dinner-ndma-member-affiliate.jpg
CATEGORIES:Industry Event,Signposted Event
LOCATION:QEII Centre\, London\, Broad Sanctuary\, Westminster\, SW1P 3EE\, 
 United Kingdom
GEO:51.49992049999999;-0.1284255000000485
X-APPLE-STRUCTURED-LOCATION;VALUE=URI;X-ADDRESS=Broad Sanctuary\, Westminst
 er\, SW1P 3EE\, United Kingdom;X-APPLE-RADIUS=100;X-TITLE=QEII Centre\, Lo
 ndon:geo:51.49992049999999,-0.1284255000000485
END:VEVENT
END:VCALENDAR