BEGIN:VCALENDAR
VERSION:2.0
PRODID:-//wp-events-plugin.com//7.2.3.1//EN
BEGIN:VEVENT
UID:141@ndma.org.uk
DTSTART:20250409T090000Z
DTEND:20250409T123000Z
DTSTAMP:20250401T191908Z
URL:https://www.ndma.org.uk/events/efficiency-vs-effectiveness-business-im
 provement-workshop-series-2/
SUMMARY:Efficiency vs Effectiveness | Business Improvement Workshop Series
DESCRIPTION:Part of the NDMA Business Improvement Workshop Series\, this ev
 ent helps to evaluate the benefits and challenges of Lean and Six-Sigma pr
 inciples\, within a group environment.
ATTACH;FMTTYPE=image/jpeg:https://www.ndma.org.uk/wp-content/uploads/2024/
 10/business-improvement-workshops-lean-problem-efficiency-north-devon-17.j
 pg
CATEGORIES:NDMA Events
END:VEVENT
END:VCALENDAR