BEGIN:VCALENDAR
VERSION:2.0
PRODID:-//wp-events-plugin.com//7.2.3.1//EN
BEGIN:VEVENT
UID:162@ndma.org.uk
DTSTART:20260204T090000Z
DTEND:20260204T170000Z
DTSTAMP:20260119T210047Z
URL:https://www.ndma.org.uk/events/efficiency-vs-effectiveness-business-im
 provement-workshop-series-5/
SUMMARY:Efficiency vs Effectiveness | Business Improvement Workshop Series
DESCRIPTION:Part of the NDMA Business Improvement Workshop Series\, this ev
 ent helps to evaluate the benefits and challenges of Lean and Six-Sigma pr
 inciples\, within a group environment.
ATTACH;FMTTYPE=image/jpeg:https://www.ndma.org.uk/wp-content/uploads/2024/
 10/business-improvement-workshops-lean-problem-efficiency-north-devon-17.j
 pg
CATEGORIES:Industry Workshops,NDMA Events
LOCATION:CMTG\, Hatchmoor Industrial Estate\, Torrington\, Devon\, EX38 7HP
 \, United Kingdom
GEO:50.814817;-4.077738
X-APPLE-STRUCTURED-LOCATION;VALUE=URI;X-ADDRESS=Hatchmoor Industrial Estate
 \, Torrington\, Devon\, EX38 7HP\, United Kingdom;X-APPLE-RADIUS=100;X-TIT
 LE=CMTG:geo:50.814817,-4.077738
END:VEVENT
END:VCALENDAR