BEGIN:VCALENDAR
VERSION:2.0
PRODID:-//wp-events-plugin.com//7.2.3.1//EN
BEGIN:VEVENT
UID:171@ndma.org.uk
DTSTART:20260422T090000Z
DTEND:20260422T170000Z
DTSTAMP:20260310T203544Z
URL:https://www.ndma.org.uk/events/efficiency-vs-effectiveness-business-im
 provement-workshop-series-6/
SUMMARY:Efficiency vs Effectiveness | Business Improvement Workshop Series
DESCRIPTION:Part of the NDMA Business Improvement Workshop Series\, this ev
 ent helps to evaluate the benefits and challenges of Lean and Six-Sigma pr
 inciples\, within a group environment.
ATTACH;FMTTYPE=image/jpeg:https://www.ndma.org.uk/wp-content/uploads/2024/
 10/business-improvement-workshops-lean-problem-efficiency-north-devon-17.j
 pg
CATEGORIES:Industry Workshops,NDMA Events
LOCATION:North Devon College\, Old Sticklepath Hill\, Barnstaple\, Devon\, 
 EX31 2BQ\, 
GEO:51.072944;-4.069868
X-APPLE-STRUCTURED-LOCATION;VALUE=URI;X-ADDRESS=Old Sticklepath Hill\, Barn
 staple\, Devon\, EX31 2BQ\, ;X-APPLE-RADIUS=100;X-TITLE=North Devon Colleg
 e:geo:51.072944,-4.069868
END:VEVENT
END:VCALENDAR