BEGIN:VCALENDAR
VERSION:2.0
PRODID:-//wp-events-plugin.com//7.2.3.1//EN
BEGIN:VEVENT
UID:55@ndma.org.uk
DTSTART:20190214T000000Z
DTEND:20190214T000000Z
DTSTAMP:20240705T122539Z
URL:https://www.ndma.org.uk/events/hinkley-supply-chain-programme-project-
 management-workshop/
SUMMARY:Hinkley Supply Chain Programme - Project Management Workshop
DESCRIPTION:Keen to supply the Hinkley Point C project\, but unsure how to 
 manage this alongside existing commitments?\nThis fully funded* workshop\,
  delivered by Exelin (part of the Professional Services Group for HPC)\,
  is aimed at senior business leaders and will:\n\n 	Outline the key princi
 ples of project management\n 	Identify the stages of planning and implemen
 ting a successful project\n 	Define the roles and responsibilities within 
 a project team\n 	Highlight the project management gaps within your busine
 ss\n\nREAD MORE HERE 
ATTACH;FMTTYPE=image/jpeg:https://www.ndma.org.uk/wp-content/uploads/2019/
 02/HPC-courses-programme.jpg
CATEGORIES:Signposted Event
LOCATION:SEIC\, Woodlands Business Park\, Bristol Road\, Bridgewater\, Some
 rset\, TA6 4FJ\, United Kingdom
GEO:51.154998;-2.986025100000006
X-APPLE-STRUCTURED-LOCATION;VALUE=URI;X-ADDRESS=Woodlands Business Park\, B
 ristol Road\, Bridgewater\, Somerset\, TA6 4FJ\, United Kingdom;X-APPLE-RA
 DIUS=100;X-TITLE=SEIC:geo:51.154998,-2.986025100000006
END:VEVENT
END:VCALENDAR