BEGIN:VCALENDAR
VERSION:2.0
PRODID:-//wp-events-plugin.com//7.2.3.1//EN
BEGIN:VEVENT
UID:53@ndma.org.uk
DTSTART:20190306T093000Z
DTEND:20190306T140000Z
DTSTAMP:20240705T122539Z
URL:https://www.ndma.org.uk/events/international-trade-after-brexit-2/
SUMMARY:International Trade After Brexit
DESCRIPTION:This FREE half day event\, delivered by Petroc and the Universi
 ty of Plymouth\, with funding from the European Social Fund\, will provide
  an overview of some of the key skills required for businesses to buy and 
 sell internationally\, in the context of Britain’s impending departure f
 rom the European Union.
ATTACH;FMTTYPE=image/jpeg:https://www.ndma.org.uk/wp-content/uploads/2019/
 02/Brexit-for-business-eu-gb-petroc-plymouth-uni-advice-event.jpg
CATEGORIES:Careers, Skills &amp; Education,Signposted Event
LOCATION:Petroc College\, Old Sticklepath Hill\, Barnstaple\, Devon\, EX31 
 2BQ\, United Kingdom
GEO:51.0732002;-4.06937389999996
X-APPLE-STRUCTURED-LOCATION;VALUE=URI;X-ADDRESS=Old Sticklepath Hill\, Barn
 staple\, Devon\, EX31 2BQ\, United Kingdom;X-APPLE-RADIUS=100;X-TITLE=Petr
 oc College:geo:51.0732002,-4.06937389999996
END:VEVENT
END:VCALENDAR