BEGIN:VCALENDAR
VERSION:2.0
PRODID:-//wp-events-plugin.com//7.2.3.1//EN
BEGIN:VEVENT
UID:105@ndma.org.uk
DTSTART:20230523T110000Z
DTEND:20230523T121500Z
DTSTAMP:20240705T115350Z
URL:https://www.ndma.org.uk/events/make-uk-funding-to-digitalise-and-decar
 bonise/
SUMMARY:MAKE UK - Funding to Digitalise and Decarbonise
DESCRIPTION:Make UK webinar: Funding to Digitalise and Decarbonise\nWhere a
 nd how to obtain funding to support your journey to net zero.\nThis Make U
 K webinar will outline the funding options currently available to support 
 manufacturers on their journey to Net Zero.\n\nThe webinar will be chaired
  by Brigitte Amoruso\, Make UK's Senior Energy and Climate Change Speciali
 st.\n\nThe latest Funding Guide by Inspired plc will also be shared with d
 elegates. \n\nAttend this event to understand...what funding is available\
 , and how to access the support\n\nIdeally suited for... those within manu
 facturing who are responsible for sustainability\, business strategy\, lea
 dership and operations.\n\nFor more information and booking https://www.ev
 entbrite.co.uk/e/make-uk-webinar-funding-to-digitalise-and-decarbonise-reg
 istration-587827767677\n\n&nbsp\;
ATTACH;FMTTYPE=image/jpeg:https://www.ndma.org.uk/wp-content/uploads/2023/
 05/https-__cdn.evbuc_.com_images_468518029_170768834334_1_original.jpg
CATEGORIES:Business Event,Industry Event,Signposted Event
END:VEVENT
END:VCALENDAR