BEGIN:VCALENDAR
VERSION:2.0
PRODID:-//wp-events-plugin.com//7.2.3.1//EN
BEGIN:VEVENT
UID:103@ndma.org.uk
DTSTART:20230509T093000Z
DTEND:20230509T110000Z
DTSTAMP:20240705T115351Z
URL:https://www.ndma.org.uk/events/make-uk-industrial-strategy-the-manufac
 turing-ambition/
SUMMARY:MAKE UK - Industrial Strategy: The Manufacturing Ambition
DESCRIPTION:Industrial Strategy - a Manufacturing Ambition\nMake UK's repor
 t launch - a vision of a modern\, ambitious and robust Industrial Strategy
  that manufacturing sector and broader economy need.\nMake UK will launch 
 a report detailing a long-term vision for UK manufacturing\; Industrial St
 rategy – A Manufacturing Ambition and answer the question: What is the l
 ong-term vision for an industrial strategy for UK manufacturing?\n\nSpeake
 rs\n\n 	The Rt Hon Greg Clark MP\, former Secretary of State\, Business\, 
 Energy and Industrial Strategy\n 	Oliver Shah\, The Sunday Times (Chair)\n
  	Andy Haldane\, CEO of the Royal Society of Arts and Chair of AMRC\n 	Gil
 es Wilkes\, Institute for Government\n 	Carys Roberts\, Executive Director
 \, IPPR\n 	Chi Onwurah MP\, Shadow Science and Technology (invited)\n 	Ste
 phen Phipson\, CEO of Make UK\n\nMore information and to register here \n\
 n&nbsp\;
ATTACH;FMTTYPE=image/jpeg:https://www.ndma.org.uk/wp-content/uploads/2023/
 05/https-__cdn.evbuc_.com_images_502247699_170768834334_1_original.jpg
CATEGORIES:NDMA Events
END:VEVENT
END:VCALENDAR