BEGIN:VCALENDAR
VERSION:2.0
PRODID:-//wp-events-plugin.com//7.2.3.1//EN
BEGIN:VEVENT
UID:104@ndma.org.uk
DTSTART:20230509T113000Z
DTEND:20230509T123000Z
DTSTAMP:20240705T115351Z
URL:https://www.ndma.org.uk/events/make-uk-no-weak-links-building-supply-c
 hain-resilience/
SUMMARY:MAKE UK - No Weak Links: Building Supply Chain Resilience
DESCRIPTION:Make UK &amp\; Infor webinar: How to build supply chain resilie
 nce?\nJoin manufacturing and policy experts to discuss the 'No Weak Links'
  report and key strategies for building resilient supply chains.\nAttend t
 his webinar to learn how UK manufacturers’ long-standing supply chain st
 rategies have been turned upside down\, and what new opportunities can be 
 utilised to combat disruption.\n\nPanellists will discuss:\n\n 	Manufactur
 ers’ key uncertainties and supply chain trends\n 	Strategies to build re
 silience and manage supply chains in the event of a disruption\, including
  investing in digital technologies\, data driven efficiencies\, and managi
 ng risk\n 	How manufacturers are mapping their supply chain\, and what can
  be done to create a more visible\, resilient supply chain\n 	How can Gove
 rnment and Industry help accelerate supply chain transformation\n\nFor mor
 e information and booking https://www.eventbrite.co.uk/e/make-uk-infor-web
 inar-how-to-build-supply-chain-resilience-registration-303366315817
ATTACH;FMTTYPE=image/jpeg:https://www.ndma.org.uk/wp-content/uploads/2023/
 05/https-__cdn.evbuc_.com_images_491870399_170768834334_1_original.jpg
CATEGORIES:NDMA Events
END:VEVENT
END:VCALENDAR