BEGIN:VCALENDAR
VERSION:2.0
PRODID:-//wp-events-plugin.com//7.2.3.1//EN
BEGIN:VEVENT
UID:102@ndma.org.uk
DTSTART;VALUE=DATE:20230928
DTEND;VALUE=DATE:20230929
DTSTAMP:20240705T115351Z
URL:https://www.ndma.org.uk/events/national-manufacturing-day-2023/
SUMMARY:National Manufacturing Day 2023
DESCRIPTION:\n\n\nABOUT NMD\n\n\nFollowing the overwhelming success of last
  year’s National Manufacturing Day\, on Thursday 28th September 2023\, M
 anufacturers throughout the UK will once again be opening their doors. Mem
 bers of the public will be invited into factories and sites for a behind-t
 he-scenes look at how Manufacturers' facilities work\, as part of this UK-
 wide Open House.\n?Local communities will have the chance to see the poten
 tial careers and jobs on offer within the wonderfully diverse manufacturin
 g sector\, as employers engage with all age groups - from school leavers\,
  graduates\, people looking to reskill and the local residents.\n?For Make
  UK and Manufacturers\, this is an opportunity to showcase the diversity o
 f a truly fascinating sector\,  the range of highly skilled jobs on offer
  and the amazing opportunities for reskilling and career development withi
 n manufacturing in the UK.\nManufacturers will participate in a number of 
 ways\, from a single tour to a full programme of events\, with Make UK ass
 isting every step of the journey. SIGN UP NOW!!! http://www.makeuk.org/nmd
 \nTogether\, we will demonstrate the value of a manufacturing apprenticesh
 ip as an alternative route post school/college. National Manufacturing Day
  is a celebration of all of the industry’s sub-sectors including automot
 ive\, food and drink\, aerospace\, defence\, chemical and pharma.\nPut the
  date in your diary - we look forward to sharing this great day. Find out 
 more here https://www.nationalmanufacturingday.org/\n\n\n\n
ATTACH;FMTTYPE=image/jpeg:https://www.ndma.org.uk/wp-content/uploads/2023/
 05/NMD-imagemv2.webp
CATEGORIES:Business Event,Industry Event,Signposted Event
END:VEVENT
END:VCALENDAR