BEGIN:VCALENDAR
VERSION:2.0
PRODID:-//wp-events-plugin.com//7.2.3.1//EN
BEGIN:VEVENT
UID:51@ndma.org.uk
DTSTART:20190311T173000Z
DTEND:20190311T200000Z
DTSTAMP:20240705T122539Z
URL:https://www.ndma.org.uk/events/ndma-agm-3/
SUMMARY:NDMA AGM
DESCRIPTION:The NDMA Annual General Meeting is open to ALL MEMBERS\n\nThe e
 vening consists of a formal meeting to report the year's progress and achi
 evements\, vote in the committee members and submit a plan for the forthco
 ming year. This is followed by a break for food\, and a fun\, manufacturin
 g-related activity facilitated by Phil Halse of SWMAS.\n\nThe meeting is 
 also open to guests who would like to find out more about NDMA activities 
 and who may be considering joining.\nAgenda\n17:30 - AGM\n\n18:15 - Buffet
 \n\n19:00 - Phil Halse –Lean exercise\n\n20:00 - Close\n\nThe event wil
 l be held in the Taw Restaurant in The New Lifestyle Building at Petroc Ba
 rnstaple Campus (Old Sticklepath Hill)\n\nTo give an idea of numbers\, ple
 ase let us know if you are planning to attend by emailing Godfrey Tucker a
 t info@ndma.org.uk\n\n&nbsp\;
CATEGORIES:NDMA Events
LOCATION:New Lifestyle Building\, Petroc\, Old Sticklepath Hill\, Barnstapl
 e\, Devon\, EX31 2BQ\, Devon\, United Kingdom
GEO:51.0722712;-4.069715699999961
X-APPLE-STRUCTURED-LOCATION;VALUE=URI;X-ADDRESS=Petroc\, Old Sticklepath Hi
 ll\, Barnstaple\, Devon\, EX31 2BQ\, Devon\, United Kingdom;X-APPLE-RADIUS
 =100;X-TITLE=New Lifestyle Building:geo:51.0722712,-4.069715699999961
END:VEVENT
END:VCALENDAR