BEGIN:VCALENDAR
VERSION:2.0
PRODID:-//wp-events-plugin.com//7.2.3.1//EN
BEGIN:VEVENT
UID:91@ndma.org.uk
DTSTART:20221109T173000Z
DTEND:20221109T200000Z
DTSTAMP:20240705T115357Z
URL:https://www.ndma.org.uk/events/ndma-annual-general-meeting-agm-2022/
SUMMARY:NDMA Annual General Meeting (AGM) 2022
DESCRIPTION:The NDMA committee invites you to attend the 2022 Annual Genera
 l Meeting.\nPLEASE NOTE: This event was previously advertised on a differe
 nt date and will now take place on the evening of Wednesday 9th November.\
 n\nHosted at the South West Institute of Technology\, Petroc (Barnstaple C
 ampus)\, the NDMA AGM is a great opportunity to meet fellow manufacturers 
 and network with partner organisations as well as having your say in the f
 uture of the organisation.\n\nThe evening will consist of the following:\n
 \n 	A brief\, formal meeting will provide an update on the current status 
 of the association and conclude outstanding business matters.\n 	Networkin
 g buffet supper\n 	Manufacturing-related team activity provided by SWMAS\n
 \nIt is always a good event and we are looking forward to welcoming it bac
 k to the calendar in-full after the difficulties created by the global pan
 demic.\nCould you join the committee?\nA lot has changed since the start o
 f 2020 and NDMA is no different. We are seeking committee members to help 
 fulfil roles throughout the core pillars of the association. You can volun
 teer at any time\, but there will also be an opportunity to put yourselves
  forward at the AGM. In particular\, we would like to encourage active com
 mittee members from manufacturing companies where possible.\n\nIf you woul
 d like to know more\, do get in touch via the contact form
ATTACH;FMTTYPE=image/jpeg:https://www.ndma.org.uk/wp-content/uploads/2022/
 09/AGM-flyer-2022.jpg
CATEGORIES:NDMA Events
LOCATION:Petroc College\, Old Sticklepath Hill\, Barnstaple\, Devon\, EX31 
 2BQ\, United Kingdom
GEO:51.0732002;-4.06937389999996
X-APPLE-STRUCTURED-LOCATION;VALUE=URI;X-ADDRESS=Old Sticklepath Hill\, Barn
 staple\, Devon\, EX31 2BQ\, United Kingdom;X-APPLE-RADIUS=100;X-TITLE=Petr
 oc College:geo:51.0732002,-4.06937389999996
END:VEVENT
END:VCALENDAR