BEGIN:VCALENDAR
VERSION:2.0
PRODID:-//wp-events-plugin.com//7.2.3.1//EN
BEGIN:VEVENT
UID:52@ndma.org.uk
DTSTART:20190516T183000Z
DTEND:20190516T223000Z
DTSTAMP:20240705T122539Z
URL:https://www.ndma.org.uk/events/ndma-awards-evening-3/
SUMMARY:NDMA Awards Evening
DESCRIPTION:Date: Thursday 16th May 2019\n\nVenue: The Barnstaple Hotel\n\n
 Time: 6:30 for 7:00\n\nPrice: £27 per head\n\nDress: Business Smart
ATTACH;FMTTYPE=image/jpeg:https://www.ndma.org.uk/wp-content/uploads/2016/
 11/NDMA16TrophiesEvent2.jpg
CATEGORIES:Awards,Industry Event,NDMA Events,STEM
LOCATION:Barnstaple Hotel\, Braunton Road\, Barnstaple\, Devon\, EX31 1LE\,
  United Kingdom
GEO:51.0860053;-4.0742424999999685
X-APPLE-STRUCTURED-LOCATION;VALUE=URI;X-ADDRESS=Braunton Road\, Barnstaple\
 , Devon\, EX31 1LE\, United Kingdom;X-APPLE-RADIUS=100;X-TITLE=Barnstaple 
 Hotel:geo:51.0860053,-4.0742424999999685
END:VEVENT
END:VCALENDAR