BEGIN:VCALENDAR
VERSION:2.0
PRODID:-//wp-events-plugin.com//7.2.3.1//EN
BEGIN:VEVENT
UID:118@ndma.org.uk
DTSTART:20240423T080000Z
DTEND:20240423T100000Z
DTSTAMP:20240705T115342Z
URL:https://www.ndma.org.uk/events/north-devon-business-innovation-hub-net
 working-breakfast/
SUMMARY:North Devon Business Innovation Hub Networking Breakfast
DESCRIPTION:\n\n\n\n\n\nThe South West is on the brink of a groundbreaking 
 transformation in 2024! Brace yourself for the extraordinary bi-monthly i
 nnovation business events\, coming to the vibrant locales of Barnstaple an
 d Tiverton. Whether you're a seasoned business leader\, an aspiring entrep
 reneur\, or an avid enthusiast of technology and innovation\, these events
  are tailor-made for you. Prepare to immerse yourself in riveting discussi
 ons\, invaluable networking opportunities\, and the chance to be part of a
  nurturing community that wholeheartedly champions the success of each of 
 its members.\n\nLet's unite and forge a thriving network that not only fos
 ters innovation but also propels the unprecedented growth of businesses ac
 ross the South West.Your participation is the vital spark that will ignite
  this community into a blazing force of innovation. If you're eager to joi
 n us\, have a scintillating topic to discuss\, or aspire to make a present
 ation\, we wholeheartedly encourage you to reach out to us at info@cotie.c
 o.uk.\n\nPlease use this link to book your place\n\n\n\n\n\n\nAGENDA\n8:00
  - 8:15 Registration\n8:15 - 8:20 Welcome\n8:20 - 8:45 Networking Breakfas
 t\n8:45 - 9:00 Meet the Team\n9:00 - 9:15 Business Support &amp\; Grant Op
 portunities\n9:15 - 9:30 Meet the Robots &amp\; the work of the Satellite 
 Catapult\n9:30 - 10:00 What is Photogrammetry and why do we need to about 
 it\n\nBooked Sessions\n9:30 - 10:30 Softskills VR Experience Customer Serv
 ice10:00 - 10:30 Apprenticeship and T Level advice for employers\n10:00 - 
 10:30 Training needs analysis further education\n10:00 - 11:00 Softskills 
 VR Experience Public Speaking\n\n\n\n\n\n
ATTACH;FMTTYPE=image/jpeg:https://www.ndma.org.uk/wp-content/uploads/2024/
 04/https-__cdn.evbuc_.com_images_713788359_426499874903_1_original.jpg
CATEGORIES:Careers, Skills &amp; Education,Employment,Industry
 Event,Signposted Event
LOCATION:Petroc College\, Old Sticklepath Hill\, Barnstaple\, Devon\, EX31 
 2BQ\, United Kingdom
GEO:51.0732002;-4.06937389999996
X-APPLE-STRUCTURED-LOCATION;VALUE=URI;X-ADDRESS=Old Sticklepath Hill\, Barn
 staple\, Devon\, EX31 2BQ\, United Kingdom;X-APPLE-RADIUS=100;X-TITLE=Petr
 oc College:geo:51.0732002,-4.06937389999996
END:VEVENT
END:VCALENDAR