BEGIN:VCALENDAR
VERSION:2.0
PRODID:-//wp-events-plugin.com//7.2.3.1//EN
BEGIN:VEVENT
UID:46@ndma.org.uk
DTSTART:20190207T093000Z
DTEND:20190207T133000Z
DTSTAMP:20240705T122541Z
URL:https://www.ndma.org.uk/events/pemc-industrial-solutions-series/
SUMMARY:PEMC Industrial Solutions series
DESCRIPTION:Discover how these two companies from the engineering and aeros
 pace sector have used Electron Microscopy to develop new products\, verify
  quality and carry out failure analysis – and most importantly how you t
 oo can use Electron Microscopy to make a difference to your company.
ATTACH;FMTTYPE=image/jpeg:https://www.ndma.org.uk/wp-content/uploads/2019/
 01/electron-microscopy-plymouth-university-SWMF.jpg
CATEGORIES:Industry Event,Industry Workshops,Signposted Event,STEM
LOCATION:Room 605\, Rolle Building\, Plymouth University\, Drake Circus\, P
 lymouth \, PL4 6EQ\, United Kingdom
GEO:50.3722578;-4.138409300000035
X-APPLE-STRUCTURED-LOCATION;VALUE=URI;X-ADDRESS=Drake Circus\, Plymouth \, 
 PL4 6EQ\, United Kingdom;X-APPLE-RADIUS=100;X-TITLE=Room 605\, Rolle Build
 ing\, Plymouth University:geo:50.3722578,-4.138409300000035
END:VEVENT
END:VCALENDAR