BEGIN:VCALENDAR
VERSION:2.0
PRODID:-//wp-events-plugin.com//7.2.3.1//EN
BEGIN:VEVENT
UID:98@ndma.org.uk
DTSTART:20230328T140000Z
DTEND:20230328T163000Z
DTSTAMP:20240705T115352Z
URL:https://www.ndma.org.uk/events/petroc-apprenticeship-and-careers-recru
 itment-fair-2023/
SUMMARY:Petroc Apprenticeship and Careers Recruitment Fair 2023
DESCRIPTION:On 28 March\, Petroc College will be hosting an Apprenticeship 
 and Careers Recruitment Fair and they’d love you to be a part of it!\nTh
 e event will highlight the range of career opportunities across a variety 
 of sectors to our learners\, providing them with an insight into the world
  of work\, and showcasing the opportunities which exist in a particular fi
 eld\, industry or occupation.\n\nThis is a great opportunity to promote yo
 ur organisation\, apprenticeship vacancies and employment opportunities to
  our learners who are embarking on their career journey.\n\nPlease email b
 usiness@petroc.ac.uk or call 01271 447248 to book a stand or to find out m
 ore about this event.
ATTACH;FMTTYPE=image/jpeg:https://www.ndma.org.uk/wp-content/uploads/2023/
 03/petroc-careers-day-2023-march.jpg
CATEGORIES:Careers, Skills &amp; Education,Employment,Industry
 Event,Signposted Event
LOCATION:Petroc College\, Old Sticklepath Hill\, Barnstaple\, Devon\, EX31 
 2BQ\, United Kingdom
GEO:51.0732002;-4.06937389999996
X-APPLE-STRUCTURED-LOCATION;VALUE=URI;X-ADDRESS=Old Sticklepath Hill\, Barn
 staple\, Devon\, EX31 2BQ\, United Kingdom;X-APPLE-RADIUS=100;X-TITLE=Petr
 oc College:geo:51.0732002,-4.06937389999996
END:VEVENT
END:VCALENDAR