BEGIN:VCALENDAR
VERSION:2.0
PRODID:-//wp-events-plugin.com//7.2.3.1//EN
BEGIN:VEVENT
UID:117@ndma.org.uk
DTSTART:20240305T081500Z
DTEND:20240305T120000Z
DTSTAMP:20240705T115343Z
URL:https://www.ndma.org.uk/events/skills-bootcamp-breakfast/
SUMMARY:Skills Bootcamp breakfast
DESCRIPTION:Devon County Council's Train4Tomorrow Skills Bootcamp Breakfast
  Panel\nThe panel discussion will focus on how employers can get involved 
 with Skills Bootcamps\, such as developing bespoke courses to upskill staf
 f\, recruiting highly skilled individuals to fill current or future vacanc
 ies\, or providing real-life business assignments.\n\nThe panel is free to
  attend and includes breakfast and entry into the Expo. Register your inte
 rest now\n\nSkills Bootcamps are part-funded for employers who wish to ups
 kill their staff. For SMEs 90% of the course cost is funded and for large 
 employers 70% of the course cost is funded. Courses are fully funded for i
 ndividuals not being co-funded by their employer\, and for the self-employ
 ed.\n\nRead our recent press release to find out more: https://www.devon.g
 ov.uk/news/record-6-4-million-awarded-for-further-year-of-skills-training-
 in-devon/
ATTACH;FMTTYPE=image/jpeg:https://www.ndma.org.uk/wp-content/uploads/2024/
 02/SFL_Skillsbootcamp_black_RGB-300x171-1.png
CATEGORIES:Business Event,Careers, Skills &amp;
 Education,Employment,Signposted Event
LOCATION:Sandy Park\, Sandy Park Way\, Exeter\, Devon\, EX2 7NN\, United Ki
 ngdom
GEO:50.710055;-3.46936
X-APPLE-STRUCTURED-LOCATION;VALUE=URI;X-ADDRESS=Sandy Park Way\, Exeter\, D
 evon\, EX2 7NN\, United Kingdom;X-APPLE-RADIUS=100;X-TITLE=Sandy Park:geo:
 50.710055,-3.46936
END:VEVENT
END:VCALENDAR