BEGIN:VCALENDAR
VERSION:2.0
PRODID:-//wp-events-plugin.com//7.2.3.1//EN
BEGIN:VEVENT
UID:116@ndma.org.uk
DTSTART:20240222T163000Z
DTEND:20240222T183000Z
DTSTAMP:20240705T115343Z
URL:https://www.ndma.org.uk/events/stepping-up-to-net-zero-assessing-your-
 products-impact/
SUMMARY:Stepping up to Net Zero: Assessing your product's impact
DESCRIPTION:As the race to net zero intensifies\, many businesses have meas
 ured their operational emissions and are now starting to consider the carb
 on embodied in their products or services. \nWhile some enterprises have 
 customers asking for this information\, others may be required to provide 
 it under emerging legislation. Whatever the driving force\, understanding 
 the impact of your product or service is the first step to identifying way
 s to reduce it. Sometimes just a few simple changes can make a dramatic di
 fference to your emissions and\, in most cases\, improve your bottom line.
 \nBut where do you start? And how do you do it?\nIn this session\, we will
 :\n\n 	review the different drivers for understanding the environmental im
 pact of your product or service\n 	illustrate how measuring and understand
 ing empowers you to make evidence-based decisions\n 	explore some simple s
 teps to help you get started and glean best practice advice from a range o
 f specialists in this field.\n\nIt won't be all theory! We'll focus on act
 ions and hear from businesses that have successfully navigated this challe
 nge.\nThis hybrid event is open to everyone interested in reducing the car
 bon footprint of their products or services. Businesses\, researchers and 
 technicians using or designing products or services would\, in particular\
 , benefit from this knowledge exchange opportunity.\nRegister here
ATTACH;FMTTYPE=image/jpeg:https://www.ndma.org.uk/wp-content/uploads/2024/
 02/net-zero-product-event-co2.jpg
CATEGORIES:Business Event,Signposted Event,Sustainability
END:VEVENT
END:VCALENDAR