BEGIN:VCALENDAR
VERSION:2.0
PRODID:-//wp-events-plugin.com//7.2.3.1//EN
BEGIN:VEVENT
UID:143@ndma.org.uk
DTSTART;TZID=Europe/London:20250430T090000
DTEND;TZID=Europe/London:20250430T123000
DTSTAMP:20250328T090030Z
URL:https://www.ndma.org.uk/events/structured-problem-solving-workshop-bus
 iness-improvement-workshop-series-2/
SUMMARY:Structured Problem Solving Workshop | Business Improvement Workshop
  Series
DESCRIPTION:Take your processes from achieving random outputs to consistent
  and predictable outputs using a Structured Problem Solving Methodology
ATTACH;FMTTYPE=image/jpeg:https://www.ndma.org.uk/wp-content/uploads/2024/
 10/business-improvement-workshops-lean-problem-efficiency-north-devon-15.j
 pg
CATEGORIES:Industry Workshops,NDMA Events
END:VEVENT
BEGIN:VTIMEZONE
TZID:Europe/London
X-LIC-LOCATION:Europe/London
BEGIN:DAYLIGHT
DTSTART:20250330T020000
TZOFFSETFROM:+0000
TZOFFSETTO:+0100
TZNAME:BST
END:DAYLIGHT
END:VTIMEZONE
END:VCALENDAR