BEGIN:VCALENDAR
VERSION:2.0
PRODID:-//wp-events-plugin.com//7.2.3.1//EN
BEGIN:VEVENT
UID:157@ndma.org.uk
DTSTART;TZID=Europe/London:20260107T090000
DTEND;TZID=Europe/London:20260107T123000
DTSTAMP:20251107T084505Z
URL:https://www.ndma.org.uk/events/structured-problem-solving-workshop-bus
 iness-improvement-workshop-series-4/
SUMMARY:Structured Problem Solving Workshop | Business Improvement Workshop
  Series
DESCRIPTION:Take your processes from achieving random outputs to consistent
  and predictable outputs using a Structured Problem Solving Methodology
ATTACH;FMTTYPE=image/jpeg:https://www.ndma.org.uk/wp-content/uploads/2024/
 10/business-improvement-workshops-lean-problem-efficiency-north-devon-15.j
 pg
CATEGORIES:Industry Workshops,NDMA Events
LOCATION:CMTG\, Hatchmoor Industrial Estate\, Torrington\, Devon\, EX38 7HP
 \, United Kingdom
GEO:50.814817;-4.077738
X-APPLE-STRUCTURED-LOCATION;VALUE=URI;X-ADDRESS=Hatchmoor Industrial Estate
 \, Torrington\, Devon\, EX38 7HP\, United Kingdom;X-APPLE-RADIUS=100;X-TIT
 LE=CMTG:geo:50.814817,-4.077738
END:VEVENT
BEGIN:VTIMEZONE
TZID:Europe/London
X-LIC-LOCATION:Europe/London
BEGIN:STANDARD
DTSTART:20251026T010000
TZOFFSETFROM:+0100
TZOFFSETTO:+0000
TZNAME:GMT
END:STANDARD
END:VTIMEZONE
END:VCALENDAR