BEGIN:VCALENDAR
VERSION:2.0
PRODID:-//wp-events-plugin.com//7.2.3.1//EN
BEGIN:VEVENT
UID:120@ndma.org.uk
DTSTART;TZID=Europe/London:20240619T120000
DTEND;TZID=Europe/London:20240619T140000
DTSTAMP:20240705T115341Z
URL:https://www.ndma.org.uk/events/sustainability-company-culture-and-staf
 f-engagement-with-phil-williams/
SUMMARY:Sustainability: company culture and staff engagement - with Phil Wi
 lliams
DESCRIPTION:Phil will be speaking about the importance of environmental awa
 reness and ways to incorporate a culture of sustainability within your bus
 iness.
ATTACH;FMTTYPE=image/jpeg:https://www.ndma.org.uk/wp-content/uploads/2024/
 06/sustainability-energy-conservation-company-culture.jpg
CATEGORIES:Business Event,NDMA Events,Sustainability
LOCATION:Petroc College\, Old Sticklepath Hill\, Barnstaple\, Devon\, EX31 
 2BQ\, United Kingdom
GEO:51.0732002;-4.06937389999996
X-APPLE-STRUCTURED-LOCATION;VALUE=URI;X-ADDRESS=Old Sticklepath Hill\, Barn
 staple\, Devon\, EX31 2BQ\, United Kingdom;X-APPLE-RADIUS=100;X-TITLE=Petr
 oc College:geo:51.0732002,-4.06937389999996
END:VEVENT
BEGIN:VTIMEZONE
TZID:Europe/London
X-LIC-LOCATION:Europe/London
BEGIN:DAYLIGHT
DTSTART:20240331T020000
TZOFFSETFROM:+0000
TZOFFSETTO:+0100
TZNAME:BST
END:DAYLIGHT
END:VTIMEZONE
END:VCALENDAR