BEGIN:VCALENDAR
VERSION:2.0
PRODID:-//wp-events-plugin.com//7.2.3.1//EN
BEGIN:VEVENT
UID:121@ndma.org.uk
DTSTART:20241010T183000Z
DTEND:20241010T223000Z
DTSTAMP:20240808T204554Z
URL:https://www.ndma.org.uk/events/the-north-devon-manufacturing-awards-20
 24/
SUMMARY:The North Devon Manufacturing Awards 2024
DESCRIPTION:Celebrating the world-class manufacturing across Northern Devon
  at The Barnstaple Hotel on Thursday 10th October\nJoin fellow manufacture
 rs from throughout the Northern Devon region to find out who has been sele
 cted by the independent\, expert judging panel as winners of the coveted N
 DMA awards trophies.\n\nView the award categories HERE\n\nPlaces are limit
 ed and usually sell out fast\, so make sure you book your table today...\n
 \nYou will be contacted with an invoice which may be paid by bank transfer
  or card. Prices are excluding VAT\, which will be included on your invoic
 e. If you require a purchase order\, please provide a reference in the com
 ments section. Payment must be received prior to the event. Please note th
 at there will be photography and videography at this event. By proceeding 
 with this application\, you accept that photographs and videos of this eve
 nt may be used for public marketing purposes.\n\nDietary requirements will
  need to be confirmed by email prior to the event.\n\nBy submitting a book
 ing\, you are agreeing to purchase the tickets which are allocated on a fi
 rst-come-first-served basis.\n\nIf you are interested in becoming a sponso
 r\, please contact us\n\n*If you're not a member\, but join within 90 days
  of the event\, you'll receive a discount equal to the difference between 
 member and non-member price for your tickets - alternatively\, you can sig
 n up for membership HERE
ATTACH;FMTTYPE=image/jpeg:https://www.ndma.org.uk/wp-content/uploads/2024/
 06/north-devon-manufacturing-awards-2024-ndma-01.jpg
CATEGORIES:Awards,NDMA Events
LOCATION:The Barnstaple Hotel\, Braunton Road\, Barnstaple\, Devon\, EX31 1
 LE\, United Kingdom
GEO:51.086046;-4.074825
X-APPLE-STRUCTURED-LOCATION;VALUE=URI;X-ADDRESS=Braunton Road\, Barnstaple\
 , Devon\, EX31 1LE\, United Kingdom;X-APPLE-RADIUS=100;X-TITLE=The Barnsta
 ple Hotel:geo:51.086046,-4.074825
END:VEVENT
END:VCALENDAR