BEGIN:VCALENDAR
VERSION:2.0
PRODID:-//wp-events-plugin.com//7.2.3.1//EN
BEGIN:VEVENT
UID:147@ndma.org.uk
DTSTART:20251016T183000Z
DTEND:20251016T230000Z
DTSTAMP:20250805T193146Z
URL:https://www.ndma.org.uk/events/the-north-devon-manufacturing-awards-20
 25/
SUMMARY:The North Devon Manufacturing Awards 2025
DESCRIPTION:Join fellow manufacturers to find out who has been selected by 
 the judges as winners of the coveted NDMA awards trophies for 2025.
ATTACH;FMTTYPE=image/jpeg:https://www.ndma.org.uk/wp-content/uploads/2025/
 06/NDMA-north-devon-manufacturing-awards-2025-29.jpg
CATEGORIES:NDMA Events
LOCATION:The Pier House\, Merley Rd\, Westward Ho!\, Bideford\, EX39 1JU\, 
 United Kingdom
GEO:51.039724;-4.24758
X-APPLE-STRUCTURED-LOCATION;VALUE=URI;X-ADDRESS=Merley Rd\, Westward Ho!\, 
 Bideford\, EX39 1JU\, United Kingdom;X-APPLE-RADIUS=100;X-TITLE=The Pier H
 ouse:geo:51.039724,-4.24758
END:VEVENT
END:VCALENDAR