BEGIN:VCALENDAR
VERSION:2.0
PRODID:-//wp-events-plugin.com//7.2.3.1//EN
BEGIN:VEVENT
UID:45@ndma.org.uk
DTSTART:20181205T141500Z
DTEND:20181205T161500Z
DTSTAMP:20240705T122542Z
URL:https://www.ndma.org.uk/events/tmb-patterns-ltd-site-visit/
SUMMARY:TMB Patterns Ltd - Best Practice Site Visit
DESCRIPTION:Come along and see what goes on at TMB Patterns Ltd
CATEGORIES:Best Practice Visits,Business Event,Industry Event,NDMA Events
LOCATION:TMB Patterns Ltd\, Brue Avenue\, Colley Lane Industrial Estate\, B
 ridgwater\, Somerset\, TA6 5LT  \, United Kingdom
GEO:51.1201205;-2.9891923000000133
X-APPLE-STRUCTURED-LOCATION;VALUE=URI;X-ADDRESS=Brue Avenue\, Colley Lane I
 ndustrial Estate\, Bridgwater\, Somerset\, TA6 5LT  \, United Kingdom;X-AP
 PLE-RADIUS=100;X-TITLE=TMB Patterns Ltd:geo:51.1201205,-2.9891923000000133
END:VEVENT
END:VCALENDAR